BEGIN:VCALENDAR
PRODID:-//Pixl8//Eventfolio//EN
VERSION:2.0
X-WR-TIMEZONE:Europe/London
CALSCALE:GREGORIAN
METHOD:PUBLISH
CLASS:PUBLIC
BEGIN:VTIMEZONE
TZID:Europe/London
LAST-MODIFIED:20260306T231828Z
TZURL:https://www.tzurl.org/zoneinfo-outlook/Europe/London
X-LIC-LOCATION:Europe/London
BEGIN:DAYLIGHT
TZNAME:BST
TZOFFSETFROM:+0000
TZOFFSETTO:+0100
DTSTART:19700329T010000
RRULE:FREQ=YEARLY;BYMONTH=3;BYDAY=-1SU
END:DAYLIGHT
BEGIN:STANDARD
TZNAME:GMT
TZOFFSETFROM:+0100
TZOFFSETTO:+0000
DTSTART:19701025T020000
RRULE:FREQ=YEARLY;BYMONTH=10;BYDAY=-1SU
END:STANDARD
END:VTIMEZONE
BEGIN:VEVENT
DTSTART;TZID=Europe/London:20250605T140000
DTEND;TZID=Europe/London:20250605T144500
DTSTAMP:20260424T015537Z
UID:{E17307C1-68B8-48D1-B00CB201D44DC9B0}
LOCATION:
SUMMARY:Zanzibar White Sand Luxury Villas & Spa 
DESCRIPTION:Join owner of Zanzibar White Sand for an update on this stunning luxury property located on the pristine Paje Beach.\n
 \n
 Event details: https://atta.travel/events/ems-events-calendar/zanzibar-white-sand-luxury-villas-spa.html
PRIORITY:1
END:VEVENT
END:VCALENDAR