BEGIN:VCALENDAR
PRODID:-//Pixl8//Eventfolio//EN
VERSION:2.0
X-WR-TIMEZONE:Europe/London
CALSCALE:GREGORIAN
METHOD:PUBLISH
CLASS:PUBLIC
BEGIN:VTIMEZONE
TZID:Europe/London
LAST-MODIFIED:20260306T231828Z
TZURL:https://www.tzurl.org/zoneinfo-outlook/Europe/London
X-LIC-LOCATION:Europe/London
BEGIN:DAYLIGHT
TZNAME:BST
TZOFFSETFROM:+0000
TZOFFSETTO:+0100
DTSTART:19700329T010000
RRULE:FREQ=YEARLY;BYMONTH=3;BYDAY=-1SU
END:DAYLIGHT
BEGIN:STANDARD
TZNAME:GMT
TZOFFSETFROM:+0100
TZOFFSETTO:+0000
DTSTART:19701025T020000
RRULE:FREQ=YEARLY;BYMONTH=10;BYDAY=-1SU
END:STANDARD
END:VTIMEZONE
BEGIN:VEVENT
DTSTART;TZID=Europe/London:20231106T180000
DTEND;TZID=Europe/London:20231106T230000
DTSTAMP:20260423T201906Z
UID:{E248C51B-4648-4A99-9A630B01F1A0D950}
LOCATION:Ev Restaurant\, The Arches\, 98 Isabella Street\, London SE1 8DD
SUMMARY:WTM London Networking
DESCRIPTION:Join us on the first night of WTM London for our ever popular networking event\n
 \n
 Event details: https://atta.travel/events/ems-events-calendar/wtm-london-networking-23.html
PRIORITY:1
END:VEVENT
END:VCALENDAR