BEGIN:VCALENDAR
PRODID:-//Pixl8//Eventfolio//EN
VERSION:2.0
X-WR-TIMEZONE:Europe/London
CALSCALE:GREGORIAN
METHOD:PUBLISH
CLASS:PUBLIC
BEGIN:VTIMEZONE
TZID:Europe/London
LAST-MODIFIED:20260306T231828Z
TZURL:https://www.tzurl.org/zoneinfo-outlook/Europe/London
X-LIC-LOCATION:Europe/London
BEGIN:DAYLIGHT
TZNAME:BST
TZOFFSETFROM:+0000
TZOFFSETTO:+0100
DTSTART:19700329T010000
RRULE:FREQ=YEARLY;BYMONTH=3;BYDAY=-1SU
END:DAYLIGHT
BEGIN:STANDARD
TZNAME:GMT
TZOFFSETFROM:+0100
TZOFFSETTO:+0000
DTSTART:19701025T020000
RRULE:FREQ=YEARLY;BYMONTH=10;BYDAY=-1SU
END:STANDARD
END:VTIMEZONE
BEGIN:VEVENT
DTSTART;TZID=Europe/London;VALUE=DATE:20251104
DTEND;TZID=Europe/London;VALUE=DATE:20251107
DTSTAMP:20260423T021325Z
UID:{3A1029A5-272F-49D3-A51671A2002B17DA}
LOCATION:ExCel London
SUMMARY:WTM London
DESCRIPTION:Join the ATTA® stand in a prime, high-traffic location near a main entrance, where global connections are made and business happens. Showcase your brand to thousands of qualified buyers and industry leaders in the world’s most influential travel marketplace.\n
 \n
 Event details: https://atta.travel/events/ems-events-calendar/wtm-london-2025.html
PRIORITY:1
END:VEVENT
END:VCALENDAR