BEGIN:VCALENDAR
PRODID:-//Pixl8//Eventfolio//EN
VERSION:2.0
X-WR-TIMEZONE:Africa/Johannesburg
CALSCALE:GREGORIAN
METHOD:PUBLISH
CLASS:PUBLIC
BEGIN:VTIMEZONE
TZID:Africa/Johannesburg
LAST-MODIFIED:20260306T231828Z
TZURL:https://www.tzurl.org/zoneinfo-outlook/Africa/Johannesburg
X-LIC-LOCATION:Africa/Johannesburg
BEGIN:STANDARD
TZNAME:SAST
TZOFFSETFROM:+0200
TZOFFSETTO:+0200
DTSTART:19700101T000000
END:STANDARD
END:VTIMEZONE
BEGIN:VEVENT
DTSTART;TZID=Africa/Johannesburg:20250409T183000
DTEND;TZID=Africa/Johannesburg:20250409T230000
DTSTAMP:20260423T142312Z
UID:{B1022AAA-BC76-4DFB-BF94408A61EBC293}
LOCATION:Sky on Long\, Hotel Sky\, 9 Lower Long Street\, Cape Town
SUMMARY:WTM Africa Networking in partnership with The Diamond Works Cape Town
DESCRIPTION:Join us for an evening of networking on day 1 of WTM Africa at Sky on Long\n
 \n
 Event details: https://atta.travel/events/ems-events-calendar/wtm-africa-networking-25.html
PRIORITY:1
END:VEVENT
END:VCALENDAR