BEGIN:VCALENDAR
PRODID:-//Pixl8//Eventfolio//EN
VERSION:2.0
X-WR-TIMEZONE:Africa/Johannesburg
CALSCALE:GREGORIAN
METHOD:PUBLISH
CLASS:PUBLIC
BEGIN:VTIMEZONE
TZID:Africa/Johannesburg
LAST-MODIFIED:20260306T231828Z
TZURL:https://www.tzurl.org/zoneinfo-outlook/Africa/Johannesburg
X-LIC-LOCATION:Africa/Johannesburg
BEGIN:STANDARD
TZNAME:SAST
TZOFFSETFROM:+0200
TZOFFSETTO:+0200
DTSTART:19700101T000000
END:STANDARD
END:VTIMEZONE
BEGIN:VEVENT
DTSTART;TZID=Africa/Johannesburg:20230403T183000
DTEND;TZID=Africa/Johannesburg:20230403T220000
DTSTAMP:20260423T065742Z
UID:{223D65DE-E9E7-43B4-B045CAEABCF6A420}
LOCATION:14 Stories Rooftop Bar\, Sun Square City Bowl\, 23 Buitengracht Street\, Cape Town\, Western Cape
SUMMARY:WTM Africa Networking
DESCRIPTION:Join us for an evening of networking on day 1 of WTM Africa at 14 Stories Rooftop Bar\n
 \n
 Event details: https://atta.travel/events/ems-events-calendar/wtm-africa-networking-23.html
PRIORITY:1
END:VEVENT
END:VCALENDAR