BEGIN:VCALENDAR
PRODID:-//Pixl8//Eventfolio//EN
VERSION:2.0
X-WR-TIMEZONE:Europe/London
CALSCALE:GREGORIAN
METHOD:PUBLISH
CLASS:PUBLIC
BEGIN:VTIMEZONE
TZID:Europe/London
LAST-MODIFIED:20260306T231828Z
TZURL:https://www.tzurl.org/zoneinfo-outlook/Europe/London
X-LIC-LOCATION:Europe/London
BEGIN:DAYLIGHT
TZNAME:BST
TZOFFSETFROM:+0000
TZOFFSETTO:+0100
DTSTART:19700329T010000
RRULE:FREQ=YEARLY;BYMONTH=3;BYDAY=-1SU
END:DAYLIGHT
BEGIN:STANDARD
TZNAME:GMT
TZOFFSETFROM:+0100
TZOFFSETTO:+0000
DTSTART:19701025T020000
RRULE:FREQ=YEARLY;BYMONTH=10;BYDAY=-1SU
END:STANDARD
END:VTIMEZONE
BEGIN:VEVENT
DTSTART;TZID=Europe/London:20240201T180000
DTEND;TZID=Europe/London:20240201T220000
DTSTAMP:20260423T184704Z
UID:{EA0D0AAD-80AE-4369-905C1560FCABD78A}
LOCATION:Hand and Flower\, 1 Hammersmith Road\, London\, W14 8XJ
SUMMARY:Winter Networking 
DESCRIPTION:Join us for our winter networking event on the first evening of the Destinations Show held at London's Olympia with our featured destination, South Africa\n
 \n
 Event details: https://atta.travel/events/ems-events-calendar/winter-networking.html
PRIORITY:1
END:VEVENT
END:VCALENDAR