BEGIN:VCALENDAR
PRODID:-//Pixl8//Eventfolio//EN
VERSION:2.0
X-WR-TIMEZONE:Europe/London
CALSCALE:GREGORIAN
METHOD:PUBLISH
CLASS:PUBLIC
BEGIN:VTIMEZONE
TZID:Europe/London
LAST-MODIFIED:20260306T231828Z
TZURL:https://www.tzurl.org/zoneinfo-outlook/Europe/London
X-LIC-LOCATION:Europe/London
BEGIN:DAYLIGHT
TZNAME:BST
TZOFFSETFROM:+0000
TZOFFSETTO:+0100
DTSTART:19700329T010000
RRULE:FREQ=YEARLY;BYMONTH=3;BYDAY=-1SU
END:DAYLIGHT
BEGIN:STANDARD
TZNAME:GMT
TZOFFSETFROM:+0100
TZOFFSETTO:+0000
DTSTART:19701025T020000
RRULE:FREQ=YEARLY;BYMONTH=10;BYDAY=-1SU
END:STANDARD
END:VTIMEZONE
BEGIN:VEVENT
DTSTART;TZID=Europe/London:20230301T100000
DTEND;TZID=Europe/London:20230301T104500
DTSTAMP:20260424T053142Z
UID:{43A5003A-A6BD-49FD-8120541595284FB1}
LOCATION:
SUMMARY:Webinar - Welcome to Jaci’s Lodges in 2023
DESCRIPTION:Let’s have a look at the changes we’ve made over the last year\n
 \n
 Event details: https://atta.travel/events/ems-events-calendar/webinar-welcome-to-jaci-s-lodges-in-2023.html
PRIORITY:1
END:VEVENT
END:VCALENDAR