BEGIN:VCALENDAR
PRODID:-//Pixl8//Eventfolio//EN
VERSION:2.0
X-WR-TIMEZONE:Europe/London
CALSCALE:GREGORIAN
METHOD:PUBLISH
CLASS:PUBLIC
BEGIN:VTIMEZONE
TZID:Europe/London
LAST-MODIFIED:20260306T231828Z
TZURL:https://www.tzurl.org/zoneinfo-outlook/Europe/London
X-LIC-LOCATION:Europe/London
BEGIN:DAYLIGHT
TZNAME:BST
TZOFFSETFROM:+0000
TZOFFSETTO:+0100
DTSTART:19700329T010000
RRULE:FREQ=YEARLY;BYMONTH=3;BYDAY=-1SU
END:DAYLIGHT
BEGIN:STANDARD
TZNAME:GMT
TZOFFSETFROM:+0100
TZOFFSETTO:+0000
DTSTART:19701025T020000
RRULE:FREQ=YEARLY;BYMONTH=10;BYDAY=-1SU
END:STANDARD
END:VTIMEZONE
BEGIN:VEVENT
DTSTART;TZID=Europe/London:20230426T100000
DTEND;TZID=Europe/London:20230426T104500
DTSTAMP:20260424T015538Z
UID:{78266287-82DD-46B7-9EDD186BF23B84CB}
LOCATION:
SUMMARY:Webinar - Waybird for Individuals 
DESCRIPTION:It's been almost a year since we officially launched Waybird and we are proud to have built an amazing community of "Waybirders" as we like to call them.\n
 \n
 Event details: https://atta.travel/events/ems-events-calendar/webinar-waybird-for-individuals.html
PRIORITY:1
END:VEVENT
END:VCALENDAR