BEGIN:VCALENDAR
PRODID:-//Pixl8//Eventfolio//EN
VERSION:2.0
X-WR-TIMEZONE:Europe/London
CALSCALE:GREGORIAN
METHOD:PUBLISH
CLASS:PUBLIC
BEGIN:VTIMEZONE
TZID:Europe/London
LAST-MODIFIED:20260306T231828Z
TZURL:https://www.tzurl.org/zoneinfo-outlook/Europe/London
X-LIC-LOCATION:Europe/London
BEGIN:DAYLIGHT
TZNAME:BST
TZOFFSETFROM:+0000
TZOFFSETTO:+0100
DTSTART:19700329T010000
RRULE:FREQ=YEARLY;BYMONTH=3;BYDAY=-1SU
END:DAYLIGHT
BEGIN:STANDARD
TZNAME:GMT
TZOFFSETFROM:+0100
TZOFFSETTO:+0000
DTSTART:19701025T020000
RRULE:FREQ=YEARLY;BYMONTH=10;BYDAY=-1SU
END:STANDARD
END:VTIMEZONE
BEGIN:VEVENT
DTSTART;TZID=Europe/London:20230920T100000
DTEND;TZID=Europe/London:20230920T104500
DTSTAMP:20260425T200335Z
UID:{8EC022E1-B7BC-4302-A6EAE204980EA488}
LOCATION:
SUMMARY:Webinar - The Seychelles Islands & Ethiopian Airlines Webinar
DESCRIPTION:Joint presentation from Joe Cababie – Ethiopian Airlines and Karen Confait- Tourism Seychelles.\n
 \n
 Event details: https://atta.travel/events/ems-events-calendar/webinar-the-seychelles-islands-ethiopian-airlines-webinar.html
PRIORITY:1
END:VEVENT
END:VCALENDAR