BEGIN:VCALENDAR
PRODID:-//Pixl8//Eventfolio//EN
VERSION:2.0
X-WR-TIMEZONE:Europe/London
CALSCALE:GREGORIAN
METHOD:PUBLISH
CLASS:PUBLIC
BEGIN:VTIMEZONE
TZID:Europe/London
LAST-MODIFIED:20260306T231828Z
TZURL:https://www.tzurl.org/zoneinfo-outlook/Europe/London
X-LIC-LOCATION:Europe/London
BEGIN:DAYLIGHT
TZNAME:BST
TZOFFSETFROM:+0000
TZOFFSETTO:+0100
DTSTART:19700329T010000
RRULE:FREQ=YEARLY;BYMONTH=3;BYDAY=-1SU
END:DAYLIGHT
BEGIN:STANDARD
TZNAME:GMT
TZOFFSETFROM:+0100
TZOFFSETTO:+0000
DTSTART:19701025T020000
RRULE:FREQ=YEARLY;BYMONTH=10;BYDAY=-1SU
END:STANDARD
END:VTIMEZONE
BEGIN:VEVENT
DTSTART;TZID=Europe/London:20230118T100000
DTEND;TZID=Europe/London:20230118T110000
DTSTAMP:20260424T174258Z
UID:{1CD6BB3A-EAD9-452D-AB9BE55BD84AA533}
LOCATION:Online
SUMMARY:Webinar - The Royals’ Retreat in Kigali
DESCRIPTION:Town & Country and The New York Times describe The Retreat in Kigali as one of the top boutique hotels of the world.  The American owners of Heaven Restaurant created The Retreat, a 20-room luxury boutique hotel located on a tree-lined street steps from Kigali City Center and 20 minutes from the airport.\n
 \n
 Event details: https://atta.travel/events/ems-events-calendar/webinar-the-royals-retreat-in-kigali.html
PRIORITY:1
END:VEVENT
END:VCALENDAR