BEGIN:VCALENDAR
PRODID:-//Pixl8//Eventfolio//EN
VERSION:2.0
X-WR-TIMEZONE:Europe/London
CALSCALE:GREGORIAN
METHOD:PUBLISH
CLASS:PUBLIC
BEGIN:VTIMEZONE
TZID:Europe/London
LAST-MODIFIED:20260306T231828Z
TZURL:https://www.tzurl.org/zoneinfo-outlook/Europe/London
X-LIC-LOCATION:Europe/London
BEGIN:DAYLIGHT
TZNAME:BST
TZOFFSETFROM:+0000
TZOFFSETTO:+0100
DTSTART:19700329T010000
RRULE:FREQ=YEARLY;BYMONTH=3;BYDAY=-1SU
END:DAYLIGHT
BEGIN:STANDARD
TZNAME:GMT
TZOFFSETFROM:+0100
TZOFFSETTO:+0000
DTSTART:19701025T020000
RRULE:FREQ=YEARLY;BYMONTH=10;BYDAY=-1SU
END:STANDARD
END:VTIMEZONE
BEGIN:VEVENT
DTSTART;TZID=Europe/London:20230302T140000
DTEND;TZID=Europe/London:20230302T144500
DTSTAMP:20260424T015537Z
UID:{C2449F4E-AA13-40B4-A45DC675D2900332}
LOCATION:
SUMMARY:Webinar - The Green Safaris Dream Circuit
DESCRIPTION:Green Safaris is a collection of exclusive camps throughout Zambia and Malawi. As the name suggests, the company has a strong and committed focus on sustainability throughout their 7 properties:\n
 \n
 Event details: https://atta.travel/events/ems-events-calendar/webinar-the-green-safaris-dream-circuit.html
PRIORITY:1
END:VEVENT
END:VCALENDAR