BEGIN:VCALENDAR
PRODID:-//Pixl8//Eventfolio//EN
VERSION:2.0
X-WR-TIMEZONE:Europe/London
CALSCALE:GREGORIAN
METHOD:PUBLISH
CLASS:PUBLIC
BEGIN:VTIMEZONE
TZID:Europe/London
LAST-MODIFIED:20260306T231828Z
TZURL:https://www.tzurl.org/zoneinfo-outlook/Europe/London
X-LIC-LOCATION:Europe/London
BEGIN:DAYLIGHT
TZNAME:BST
TZOFFSETFROM:+0000
TZOFFSETTO:+0100
DTSTART:19700329T010000
RRULE:FREQ=YEARLY;BYMONTH=3;BYDAY=-1SU
END:DAYLIGHT
BEGIN:STANDARD
TZNAME:GMT
TZOFFSETFROM:+0100
TZOFFSETTO:+0000
DTSTART:19701025T020000
RRULE:FREQ=YEARLY;BYMONTH=10;BYDAY=-1SU
END:STANDARD
END:VTIMEZONE
BEGIN:VEVENT
DTSTART;TZID=Europe/London:20230316T140000
DTEND;TZID=Europe/London:20230316T144500
DTSTAMP:20260424T072833Z
UID:{3A580E55-815C-498C-82CE767DAA2FCCA2}
LOCATION:
SUMMARY:Webinar - Introduction to Intimate Camp Seronera
DESCRIPTION:'Intimate Camp Seronera,’ which received its first guests in July 2022, is the latest addition to the collection of luxury camps to be found in the Serengeti National Park.\n
 \n
 Event details: https://atta.travel/events/ems-events-calendar/webinar-introduction-to-intimate-camp-seronera.html
PRIORITY:1
END:VEVENT
END:VCALENDAR