BEGIN:VCALENDAR
PRODID:-//Pixl8//Eventfolio//EN
VERSION:2.0
X-WR-TIMEZONE:Europe/London
CALSCALE:GREGORIAN
METHOD:PUBLISH
CLASS:PUBLIC
BEGIN:VTIMEZONE
TZID:Europe/London
LAST-MODIFIED:20260306T231828Z
TZURL:https://www.tzurl.org/zoneinfo-outlook/Europe/London
X-LIC-LOCATION:Europe/London
BEGIN:DAYLIGHT
TZNAME:BST
TZOFFSETFROM:+0000
TZOFFSETTO:+0100
DTSTART:19700329T010000
RRULE:FREQ=YEARLY;BYMONTH=3;BYDAY=-1SU
END:DAYLIGHT
BEGIN:STANDARD
TZNAME:GMT
TZOFFSETFROM:+0100
TZOFFSETTO:+0000
DTSTART:19701025T020000
RRULE:FREQ=YEARLY;BYMONTH=10;BYDAY=-1SU
END:STANDARD
END:VTIMEZONE
BEGIN:VEVENT
DTSTART;TZID=Europe/London:20230907T140000
DTEND;TZID=Europe/London:20230907T144500
DTSTAMP:20260424T072448Z
UID:{E7CD1E64-7B4E-4656-9B5490528A143C94}
LOCATION:
SUMMARY:Webinar - Hemingways Collection
DESCRIPTION:The Hemingways Collection has been investing heavily into all of their properties during 2022 and 2023 - and will continue to do so in 2024!\n
 \n
 Event details: https://atta.travel/events/ems-events-calendar/webinar-hemingways-collection.html
PRIORITY:1
END:VEVENT
END:VCALENDAR