BEGIN:VCALENDAR
PRODID:-//Pixl8//Eventfolio//EN
VERSION:2.0
X-WR-TIMEZONE:Europe/London
CALSCALE:GREGORIAN
METHOD:PUBLISH
CLASS:PUBLIC
BEGIN:VTIMEZONE
TZID:Europe/London
LAST-MODIFIED:20260306T231828Z
TZURL:https://www.tzurl.org/zoneinfo-outlook/Europe/London
X-LIC-LOCATION:Europe/London
BEGIN:DAYLIGHT
TZNAME:BST
TZOFFSETFROM:+0000
TZOFFSETTO:+0100
DTSTART:19700329T010000
RRULE:FREQ=YEARLY;BYMONTH=3;BYDAY=-1SU
END:DAYLIGHT
BEGIN:STANDARD
TZNAME:GMT
TZOFFSETFROM:+0100
TZOFFSETTO:+0000
DTSTART:19701025T020000
RRULE:FREQ=YEARLY;BYMONTH=10;BYDAY=-1SU
END:STANDARD
END:VTIMEZONE
BEGIN:VEVENT
DTSTART;TZID=Europe/London:20230921T140000
DTEND;TZID=Europe/London:20230921T144500
DTSTAMP:20260419T154902Z
UID:{8CBB0679-07A0-4D9D-BF379BC6DED0C679}
LOCATION:
SUMMARY:Webinar - Dulini – Always Evolving
DESCRIPTION:In the last couple of years all three of the Dulini lodges have changed in some way, shape or form. From complete rebuilds to soft refurbs.\n
 \n
 Event details: https://atta.travel/events/ems-events-calendar/webinar-dulini-always-evolving.html
PRIORITY:1
END:VEVENT
END:VCALENDAR