BEGIN:VCALENDAR
PRODID:-//Pixl8//Eventfolio//EN
VERSION:2.0
X-WR-TIMEZONE:Europe/London
CALSCALE:GREGORIAN
METHOD:PUBLISH
CLASS:PUBLIC
BEGIN:VTIMEZONE
TZID:Europe/London
LAST-MODIFIED:20260306T231828Z
TZURL:https://www.tzurl.org/zoneinfo-outlook/Europe/London
X-LIC-LOCATION:Europe/London
BEGIN:DAYLIGHT
TZNAME:BST
TZOFFSETFROM:+0000
TZOFFSETTO:+0100
DTSTART:19700329T010000
RRULE:FREQ=YEARLY;BYMONTH=3;BYDAY=-1SU
END:DAYLIGHT
BEGIN:STANDARD
TZNAME:GMT
TZOFFSETFROM:+0100
TZOFFSETTO:+0000
DTSTART:19701025T020000
RRULE:FREQ=YEARLY;BYMONTH=10;BYDAY=-1SU
END:STANDARD
END:VTIMEZONE
BEGIN:VEVENT
DTSTART;TZID=Europe/London:20231026T140000
DTEND;TZID=Europe/London:20231026T150000
DTSTAMP:20260424T072823Z
UID:{AB5FC041-03BE-4CDB-B572A3F612AF917B}
LOCATION:
SUMMARY:Webinar- Botswana Safaris Designed To Be Different
DESCRIPTION:When it comes to immersing yourself completely in the African bush, Golden Africa Safaris, take things to the next level and we want to share it with you!\n
 \n
 Event details: https://atta.travel/events/ems-events-calendar/webinar-botswana-safaris-designed-to-be-different.html
PRIORITY:1
END:VEVENT
END:VCALENDAR