BEGIN:VCALENDAR
PRODID:-//Pixl8//Eventfolio//EN
VERSION:2.0
X-WR-TIMEZONE:Europe/London
CALSCALE:GREGORIAN
METHOD:PUBLISH
CLASS:PUBLIC
BEGIN:VTIMEZONE
TZID:Europe/London
LAST-MODIFIED:20260306T231828Z
TZURL:https://www.tzurl.org/zoneinfo-outlook/Europe/London
X-LIC-LOCATION:Europe/London
BEGIN:DAYLIGHT
TZNAME:BST
TZOFFSETFROM:+0000
TZOFFSETTO:+0100
DTSTART:19700329T010000
RRULE:FREQ=YEARLY;BYMONTH=3;BYDAY=-1SU
END:DAYLIGHT
BEGIN:STANDARD
TZNAME:GMT
TZOFFSETFROM:+0100
TZOFFSETTO:+0000
DTSTART:19701025T020000
RRULE:FREQ=YEARLY;BYMONTH=10;BYDAY=-1SU
END:STANDARD
END:VTIMEZONE
BEGIN:VEVENT
DTSTART;TZID=Europe/London:20240118T140000
DTEND;TZID=Europe/London:20240118T144500
DTSTAMP:20260424T042638Z
UID:{AB54FF8C-04C0-4A48-92DB6B1AD9FE072E}
LOCATION:
SUMMARY:Volcanoes Safaris 2024 Update And An Introduction To Kibale Lodge
DESCRIPTION:We invite you to learn more about the Volcanoes Safaris Great Ape Lodges in Uganda and Rwanda.\n
 \n
 Event details: https://atta.travel/events/ems-events-calendar/volcanoes-safaris-2024-update-and-an-introduction-to-kibale-lodge.html
PRIORITY:1
END:VEVENT
END:VCALENDAR