BEGIN:VCALENDAR
PRODID:-//Pixl8//Eventfolio//EN
VERSION:2.0
X-WR-TIMEZONE:Europe/London
CALSCALE:GREGORIAN
METHOD:PUBLISH
CLASS:PUBLIC
BEGIN:VTIMEZONE
TZID:Europe/London
LAST-MODIFIED:20260306T231828Z
TZURL:https://www.tzurl.org/zoneinfo-outlook/Europe/London
X-LIC-LOCATION:Europe/London
BEGIN:DAYLIGHT
TZNAME:BST
TZOFFSETFROM:+0000
TZOFFSETTO:+0100
DTSTART:19700329T010000
RRULE:FREQ=YEARLY;BYMONTH=3;BYDAY=-1SU
END:DAYLIGHT
BEGIN:STANDARD
TZNAME:GMT
TZOFFSETFROM:+0100
TZOFFSETTO:+0000
DTSTART:19701025T020000
RRULE:FREQ=YEARLY;BYMONTH=10;BYDAY=-1SU
END:STANDARD
END:VTIMEZONE
BEGIN:VEVENT
DTSTART;TZID=Europe/London:20240606T140000
DTEND;TZID=Europe/London:20240606T144500
DTSTAMP:20260424T110842Z
UID:{8BEE3E12-CAFC-4899-91CE29CBE8A58264}
LOCATION:
SUMMARY:Visit Rwanda - Discover the Land of a Thousand Hills
DESCRIPTION:Discover the wonders of Rwanda. Known as the land of a thousand hills, Rwanda's stunning scenery and warm, friendly people offer unique experiences in one of the most remarkable countries in the world.\n
 \n
 Event details: https://atta.travel/events/ems-events-calendar/visit-rwanda-discover-the-land-of-a-thousand-hills.html
PRIORITY:1
END:VEVENT
END:VCALENDAR