BEGIN:VCALENDAR
PRODID:-//Pixl8//Eventfolio//EN
VERSION:2.0
X-WR-TIMEZONE:Europe/London
CALSCALE:GREGORIAN
METHOD:PUBLISH
CLASS:PUBLIC
BEGIN:VTIMEZONE
TZID:Europe/London
LAST-MODIFIED:20260306T231828Z
TZURL:https://www.tzurl.org/zoneinfo-outlook/Europe/London
X-LIC-LOCATION:Europe/London
BEGIN:DAYLIGHT
TZNAME:BST
TZOFFSETFROM:+0000
TZOFFSETTO:+0100
DTSTART:19700329T010000
RRULE:FREQ=YEARLY;BYMONTH=3;BYDAY=-1SU
END:DAYLIGHT
BEGIN:STANDARD
TZNAME:GMT
TZOFFSETFROM:+0100
TZOFFSETTO:+0000
DTSTART:19701025T020000
RRULE:FREQ=YEARLY;BYMONTH=10;BYDAY=-1SU
END:STANDARD
END:VTIMEZONE
BEGIN:VEVENT
DTSTART;TZID=Europe/London:20251211T140000
DTEND;TZID=Europe/London:20251211T144500
DTSTAMP:20260424T073929Z
UID:{BD366FF2-838D-46B8-A74575F5B4FE6E05}
LOCATION:
SUMMARY:Virgin Limited Edition – an overview of our Africa Collection.
DESCRIPTION:Limited Edition implies something extraordinary and rare, which offers something better, more exclusive and more desirable... that's exactly what we do.\n
 \n
 Event details: https://atta.travel/events/ems-events-calendar/virgin-limited-edition-an-overview-of-our-africa-collection.html
PRIORITY:1
END:VEVENT
END:VCALENDAR