BEGIN:VCALENDAR
PRODID:-//Pixl8//Eventfolio//EN
VERSION:2.0
X-WR-TIMEZONE:Africa/Nairobi
CALSCALE:GREGORIAN
METHOD:PUBLISH
CLASS:PUBLIC
BEGIN:VTIMEZONE
TZID:Africa/Nairobi
LAST-MODIFIED:20260306T231828Z
TZURL:https://www.tzurl.org/zoneinfo-outlook/Africa/Nairobi
X-LIC-LOCATION:Africa/Nairobi
BEGIN:STANDARD
TZNAME:EAT
TZOFFSETFROM:+0300
TZOFFSETTO:+0300
DTSTART:19700101T000000
END:STANDARD
END:VTIMEZONE
BEGIN:VEVENT
DTSTART;TZID=Africa/Nairobi:20251003T180000
DTEND;TZID=Africa/Nairobi:20251003T210000
DTSTAMP:20260423T221714Z
UID:{E4DE6829-BCEA-410C-8F4FC7AF0F4406F7}
LOCATION:Pheonix Aviation Hangar\, Wilson Airport\, Langata Road\, Nairobi
SUMMARY:Tourism Sundowner: Nairobi
DESCRIPTION:Join us on Friday 3 October, 18:00–21:00 for an evening of networking, cocktails, and good conversation in Nairobi — hosted at Phoenix Aviation’s hangar in partnership with rescue.co\n
 \n
 Event details: https://atta.travel/events/ems-events-calendar/tourism-sundowner-nairobi.html
PRIORITY:1
END:VEVENT
END:VCALENDAR