BEGIN:VCALENDAR
PRODID:-//Pixl8//Eventfolio//EN
VERSION:2.0
X-WR-TIMEZONE:Europe/London
CALSCALE:GREGORIAN
METHOD:PUBLISH
CLASS:PUBLIC
BEGIN:VTIMEZONE
TZID:Europe/London
LAST-MODIFIED:20260306T231828Z
TZURL:https://www.tzurl.org/zoneinfo-outlook/Europe/London
X-LIC-LOCATION:Europe/London
BEGIN:DAYLIGHT
TZNAME:BST
TZOFFSETFROM:+0000
TZOFFSETTO:+0100
DTSTART:19700329T010000
RRULE:FREQ=YEARLY;BYMONTH=3;BYDAY=-1SU
END:DAYLIGHT
BEGIN:STANDARD
TZNAME:GMT
TZOFFSETFROM:+0100
TZOFFSETTO:+0000
DTSTART:19701025T020000
RRULE:FREQ=YEARLY;BYMONTH=10;BYDAY=-1SU
END:STANDARD
END:VTIMEZONE
BEGIN:VEVENT
DTSTART;TZID=Europe/London:20251015T100000
DTEND;TZID=Europe/London:20251015T104500
DTSTAMP:20260423T230518Z
UID:{5435411C-6B32-46D0-97DAA2DA0BCF5E56}
LOCATION:
SUMMARY:The Expansion of the Sabi Sabi Collection
DESCRIPTION:Join us for an inspiring conversation with Jacques Smit, Marketing Director of the Sabi Sabi Collection, as he shares the journey of one of South Africa’s most iconic luxury safari brands.\n
 \n
 Event details: https://atta.travel/events/ems-events-calendar/the-expansion-of-the-sabi-sabi-collection.html
PRIORITY:1
END:VEVENT
END:VCALENDAR