BEGIN:VCALENDAR
PRODID:-//Pixl8//Eventfolio//EN
VERSION:2.0
X-WR-TIMEZONE:Europe/London
CALSCALE:GREGORIAN
METHOD:PUBLISH
CLASS:PUBLIC
BEGIN:VTIMEZONE
TZID:Europe/London
LAST-MODIFIED:20260306T231828Z
TZURL:https://www.tzurl.org/zoneinfo-outlook/Europe/London
X-LIC-LOCATION:Europe/London
BEGIN:DAYLIGHT
TZNAME:BST
TZOFFSETFROM:+0000
TZOFFSETTO:+0100
DTSTART:19700329T010000
RRULE:FREQ=YEARLY;BYMONTH=3;BYDAY=-1SU
END:DAYLIGHT
BEGIN:STANDARD
TZNAME:GMT
TZOFFSETFROM:+0100
TZOFFSETTO:+0000
DTSTART:19701025T020000
RRULE:FREQ=YEARLY;BYMONTH=10;BYDAY=-1SU
END:STANDARD
END:VTIMEZONE
BEGIN:VEVENT
DTSTART;TZID=Europe/London:20251210T100000
DTEND;TZID=Europe/London:20251210T104500
DTSTAMP:20260424T062129Z
UID:{34C5BBED-DED1-4378-A28AE2A09D16BE0A}
LOCATION:
SUMMARY:Tanzania Multi Centre - Kili Villa and Rhotia Valley Tented Lodge
DESCRIPTION:Join us for an inspiring webinar tailored for ATTA members, spotlighting two remarkable Tanzanian properties: Kili Villa and Rhotia Valley Tented Lodge.\n
 \n
 Event details: https://atta.travel/events/ems-events-calendar/tanzania-multi-centre-kili-villa-and-rhotia-valley-tented-lodge.html
PRIORITY:1
END:VEVENT
END:VCALENDAR