BEGIN:VCALENDAR
PRODID:-//Pixl8//Eventfolio//EN
VERSION:2.0
X-WR-TIMEZONE:Europe/London
CALSCALE:GREGORIAN
METHOD:PUBLISH
CLASS:PUBLIC
BEGIN:VTIMEZONE
TZID:Europe/London
LAST-MODIFIED:20260306T231828Z
TZURL:https://www.tzurl.org/zoneinfo-outlook/Europe/London
X-LIC-LOCATION:Europe/London
BEGIN:DAYLIGHT
TZNAME:BST
TZOFFSETFROM:+0000
TZOFFSETTO:+0100
DTSTART:19700329T010000
RRULE:FREQ=YEARLY;BYMONTH=3;BYDAY=-1SU
END:DAYLIGHT
BEGIN:STANDARD
TZNAME:GMT
TZOFFSETFROM:+0100
TZOFFSETTO:+0000
DTSTART:19701025T020000
RRULE:FREQ=YEARLY;BYMONTH=10;BYDAY=-1SU
END:STANDARD
END:VTIMEZONE
BEGIN:VEVENT
DTSTART;TZID=Europe/London:20240313T140000
DTEND;TZID=Europe/London:20240313T150000
DTSTAMP:20260424T011047Z
UID:{FC0E582D-48C9-4DBF-946465B6CE3E3962}
LOCATION:
SUMMARY:Synergising sales and marketing: Collaborative strategies for success
DESCRIPTION:Join us in this exciting member webinar where we explore how aligning sales and marketing efforts can drive business growth and enhance customer engagement.\n
 \n
 Event details: https://atta.travel/events/ems-events-calendar/synergising-sales-and-marketing-collaborative-strategies-for-success.html
PRIORITY:1
END:VEVENT
END:VCALENDAR