BEGIN:VCALENDAR
PRODID:-//Pixl8//Eventfolio//EN
VERSION:2.0
X-WR-TIMEZONE:Europe/London
CALSCALE:GREGORIAN
METHOD:PUBLISH
CLASS:PUBLIC
BEGIN:VTIMEZONE
TZID:Europe/London
LAST-MODIFIED:20260306T231828Z
TZURL:https://www.tzurl.org/zoneinfo-outlook/Europe/London
X-LIC-LOCATION:Europe/London
BEGIN:DAYLIGHT
TZNAME:BST
TZOFFSETFROM:+0000
TZOFFSETTO:+0100
DTSTART:19700329T010000
RRULE:FREQ=YEARLY;BYMONTH=3;BYDAY=-1SU
END:DAYLIGHT
BEGIN:STANDARD
TZNAME:GMT
TZOFFSETFROM:+0100
TZOFFSETTO:+0000
DTSTART:19701025T020000
RRULE:FREQ=YEARLY;BYMONTH=10;BYDAY=-1SU
END:STANDARD
END:VTIMEZONE
BEGIN:VEVENT
DTSTART;TZID=Europe/London:20250612T140000
DTEND;TZID=Europe/London:20250612T144500
DTSTAMP:20260423T221831Z
UID:{8D2068F9-5384-4A85-84F747313BDEE0E3}
LOCATION:
SUMMARY:Seamless safaris: the digital tool behind simpler travel
DESCRIPTION:Still relying on printouts and endless email chains to keep your safari clients in the loop? There’s a better way…\n
 \n
 Event details: https://atta.travel/events/ems-events-calendar/seamless-safaris-the-digital-tool-behind-simpler-travel.html
PRIORITY:1
END:VEVENT
END:VCALENDAR