BEGIN:VCALENDAR
PRODID:-//Pixl8//Eventfolio//EN
VERSION:2.0
X-WR-TIMEZONE:Europe/London
CALSCALE:GREGORIAN
METHOD:PUBLISH
CLASS:PUBLIC
BEGIN:VTIMEZONE
TZID:Europe/London
LAST-MODIFIED:20260306T231828Z
TZURL:https://www.tzurl.org/zoneinfo-outlook/Europe/London
X-LIC-LOCATION:Europe/London
BEGIN:DAYLIGHT
TZNAME:BST
TZOFFSETFROM:+0000
TZOFFSETTO:+0100
DTSTART:19700329T010000
RRULE:FREQ=YEARLY;BYMONTH=3;BYDAY=-1SU
END:DAYLIGHT
BEGIN:STANDARD
TZNAME:GMT
TZOFFSETFROM:+0100
TZOFFSETTO:+0000
DTSTART:19701025T020000
RRULE:FREQ=YEARLY;BYMONTH=10;BYDAY=-1SU
END:STANDARD
END:VTIMEZONE
BEGIN:VEVENT
DTSTART;TZID=Europe/London:20250710T140000
DTEND;TZID=Europe/London:20250710T144500
DTSTAMP:20260423T230628Z
UID:{783126CD-B381-4F6F-AD5580DC7DA855A0}
LOCATION:
SUMMARY:Scenic Air Safari - Johannesburg
DESCRIPTION:A new 1 hour aerial safari experience in Johannesburg, South Africa.\n
 \n
 Event details: https://atta.travel/events/ems-events-calendar/scenic-air-safari-johannesburg.html
PRIORITY:1
END:VEVENT
END:VCALENDAR