BEGIN:VCALENDAR
PRODID:-//Pixl8//Eventfolio//EN
VERSION:2.0
X-WR-TIMEZONE:Europe/London
CALSCALE:GREGORIAN
METHOD:PUBLISH
CLASS:PUBLIC
BEGIN:VTIMEZONE
TZID:Europe/London
LAST-MODIFIED:20260306T231828Z
TZURL:https://www.tzurl.org/zoneinfo-outlook/Europe/London
X-LIC-LOCATION:Europe/London
BEGIN:DAYLIGHT
TZNAME:BST
TZOFFSETFROM:+0000
TZOFFSETTO:+0100
DTSTART:19700329T010000
RRULE:FREQ=YEARLY;BYMONTH=3;BYDAY=-1SU
END:DAYLIGHT
BEGIN:STANDARD
TZNAME:GMT
TZOFFSETFROM:+0100
TZOFFSETTO:+0000
DTSTART:19701025T020000
RRULE:FREQ=YEARLY;BYMONTH=10;BYDAY=-1SU
END:STANDARD
END:VTIMEZONE
BEGIN:VEVENT
DTSTART;TZID=Europe/London:20240328T140000
DTEND;TZID=Europe/London:20240328T144500
DTSTAMP:20260425T202124Z
UID:{38D840DF-AFBE-4845-8E2199FC02609E7C}
LOCATION:
SUMMARY:Samara Karoo Reserve, A Love Letter to the Karoo 
DESCRIPTION:Award-winning Samara Karoo Reserve is a conservation journey on 67,000 acres of born-again wilderness in South Africa’s heart-stoppingly beautiful Great Karoo region.\n
 \n
 Event details: https://atta.travel/events/ems-events-calendar/samara-karoo-reserve-a-love-letter-to-the-karoo.html
PRIORITY:1
END:VEVENT
END:VCALENDAR