BEGIN:VCALENDAR
PRODID:-//Pixl8//Eventfolio//EN
VERSION:2.0
X-WR-TIMEZONE:Europe/London
CALSCALE:GREGORIAN
METHOD:PUBLISH
CLASS:PUBLIC
BEGIN:VTIMEZONE
TZID:Europe/London
LAST-MODIFIED:20260306T231828Z
TZURL:https://www.tzurl.org/zoneinfo-outlook/Europe/London
X-LIC-LOCATION:Europe/London
BEGIN:DAYLIGHT
TZNAME:BST
TZOFFSETFROM:+0000
TZOFFSETTO:+0100
DTSTART:19700329T010000
RRULE:FREQ=YEARLY;BYMONTH=3;BYDAY=-1SU
END:DAYLIGHT
BEGIN:STANDARD
TZNAME:GMT
TZOFFSETFROM:+0100
TZOFFSETTO:+0000
DTSTART:19701025T020000
RRULE:FREQ=YEARLY;BYMONTH=10;BYDAY=-1SU
END:STANDARD
END:VTIMEZONE
BEGIN:VEVENT
DTSTART;TZID=Europe/London:20250617T140000
DTEND;TZID=Europe/London:20250617T144500
DTSTAMP:20260424T072549Z
UID:{0EBC0A6F-1ECF-4BCE-82F02AF52CA307A9}
LOCATION:
SUMMARY:Safari In the Skies
DESCRIPTION:Join us as we take you on a journey through the skies of East Africa! Discover how Airkenya connects travellers to breathtaking safari destinations across Kenya, Tanzania, and Uganda.\n
 \n
 Event details: https://atta.travel/events/ems-events-calendar/safari-in-the-skies.html
PRIORITY:1
END:VEVENT
END:VCALENDAR