BEGIN:VCALENDAR
PRODID:-//Pixl8//Eventfolio//EN
VERSION:2.0
X-WR-TIMEZONE:Europe/London
CALSCALE:GREGORIAN
METHOD:PUBLISH
CLASS:PUBLIC
BEGIN:VTIMEZONE
TZID:Europe/London
LAST-MODIFIED:20260306T231828Z
TZURL:https://www.tzurl.org/zoneinfo-outlook/Europe/London
X-LIC-LOCATION:Europe/London
BEGIN:DAYLIGHT
TZNAME:BST
TZOFFSETFROM:+0000
TZOFFSETTO:+0100
DTSTART:19700329T010000
RRULE:FREQ=YEARLY;BYMONTH=3;BYDAY=-1SU
END:DAYLIGHT
BEGIN:STANDARD
TZNAME:GMT
TZOFFSETFROM:+0100
TZOFFSETTO:+0000
DTSTART:19701025T020000
RRULE:FREQ=YEARLY;BYMONTH=10;BYDAY=-1SU
END:STANDARD
END:VTIMEZONE
BEGIN:VEVENT
DTSTART;TZID=Europe/London;VALUE=DATE:20240205
DTEND;TZID=Europe/London;VALUE=DATE:20240210
DTSTAMP:20260419T192534Z
UID:{8A6DF140-8067-4369-97067168CB2D0352}
LOCATION:Online
SUMMARY:OurAfrica.Travel
DESCRIPTION:OurAfrica.Travel, THE virtual show for the African and Indian Ocean Islands is back running from Monday 5 February to Friday 9 February\n
 \n
 Event details: https://atta.travel/events/ems-events-calendar/ourafrica-travel.html
PRIORITY:1
END:VEVENT
END:VCALENDAR