BEGIN:VCALENDAR
PRODID:-//Pixl8//Eventfolio//EN
VERSION:2.0
X-WR-TIMEZONE:Europe/London
CALSCALE:GREGORIAN
METHOD:PUBLISH
CLASS:PUBLIC
BEGIN:VTIMEZONE
TZID:Europe/London
LAST-MODIFIED:20260306T231828Z
TZURL:https://www.tzurl.org/zoneinfo-outlook/Europe/London
X-LIC-LOCATION:Europe/London
BEGIN:DAYLIGHT
TZNAME:BST
TZOFFSETFROM:+0000
TZOFFSETTO:+0100
DTSTART:19700329T010000
RRULE:FREQ=YEARLY;BYMONTH=3;BYDAY=-1SU
END:DAYLIGHT
BEGIN:STANDARD
TZNAME:GMT
TZOFFSETFROM:+0100
TZOFFSETTO:+0000
DTSTART:19701025T020000
RRULE:FREQ=YEARLY;BYMONTH=10;BYDAY=-1SU
END:STANDARD
END:VTIMEZONE
BEGIN:VEVENT
DTSTART;TZID=Europe/London:20241219T100000
DTEND;TZID=Europe/London:20241219T104500
DTSTAMP:20260423T185329Z
UID:{7B39581B-E84F-4FF0-8C31CE5E39A89605}
LOCATION:
SUMMARY:Okavango Expeditions and Tented Camps – Mobile Expeditions 
DESCRIPTION:Why a mobile expedition?\n
 \n
 Event details: https://atta.travel/events/ems-events-calendar/okavango-expeditions-and-tented-camps-mobile-expeditions.html
PRIORITY:1
END:VEVENT
END:VCALENDAR