BEGIN:VCALENDAR
PRODID:-//Pixl8//Eventfolio//EN
VERSION:2.0
X-WR-TIMEZONE:Europe/London
CALSCALE:GREGORIAN
METHOD:PUBLISH
CLASS:PUBLIC
BEGIN:VTIMEZONE
TZID:Europe/London
LAST-MODIFIED:20260306T231828Z
TZURL:https://www.tzurl.org/zoneinfo-outlook/Europe/London
X-LIC-LOCATION:Europe/London
BEGIN:DAYLIGHT
TZNAME:BST
TZOFFSETFROM:+0000
TZOFFSETTO:+0100
DTSTART:19700329T010000
RRULE:FREQ=YEARLY;BYMONTH=3;BYDAY=-1SU
END:DAYLIGHT
BEGIN:STANDARD
TZNAME:GMT
TZOFFSETFROM:+0100
TZOFFSETTO:+0000
DTSTART:19701025T020000
RRULE:FREQ=YEARLY;BYMONTH=10;BYDAY=-1SU
END:STANDARD
END:VTIMEZONE
BEGIN:VEVENT
DTSTART;TZID=Europe/London:20250911T140000
DTEND;TZID=Europe/London:20250911T144500
DTSTAMP:20260424T011134Z
UID:{36B0B609-1A83-40F5-9C740D5EC174A3DB}
LOCATION:
SUMMARY:Mastering East Africa As A Destination - Sense Of Africa
DESCRIPTION:Join Sense of Africa for an essential webinar designed to master East Africa as a premier destination.\n
 \n
 Event details: https://atta.travel/events/ems-events-calendar/mastering-east-africa-as-a-destination-sense-of-africa.html
PRIORITY:1
END:VEVENT
END:VCALENDAR