BEGIN:VCALENDAR
PRODID:-//Pixl8//Eventfolio//EN
VERSION:2.0
X-WR-TIMEZONE:Europe/London
CALSCALE:GREGORIAN
METHOD:PUBLISH
CLASS:PUBLIC
BEGIN:VTIMEZONE
TZID:Europe/London
LAST-MODIFIED:20260306T231828Z
TZURL:https://www.tzurl.org/zoneinfo-outlook/Europe/London
X-LIC-LOCATION:Europe/London
BEGIN:DAYLIGHT
TZNAME:BST
TZOFFSETFROM:+0000
TZOFFSETTO:+0100
DTSTART:19700329T010000
RRULE:FREQ=YEARLY;BYMONTH=3;BYDAY=-1SU
END:DAYLIGHT
BEGIN:STANDARD
TZNAME:GMT
TZOFFSETFROM:+0100
TZOFFSETTO:+0000
DTSTART:19701025T020000
RRULE:FREQ=YEARLY;BYMONTH=10;BYDAY=-1SU
END:STANDARD
END:VTIMEZONE
BEGIN:VEVENT
DTSTART;TZID=Europe/London:20250717T140000
DTEND;TZID=Europe/London:20250717T144500
DTSTAMP:20260423T202332Z
UID:{CFC7B833-74C5-4B2F-9EAAFCEE29F89D9A}
LOCATION:
SUMMARY:Making Sales Management Easy for Travel and Hospitality
DESCRIPTION:With Richard Walton 10/10 rated International Speaker, Hospitality Entrepreneur & Growth Strategist.\n
 \n
 Event details: https://atta.travel/events/ems-events-calendar/making-sales-management-easy-for-travel-and-hospitality.html
PRIORITY:1
END:VEVENT
END:VCALENDAR