BEGIN:VCALENDAR
PRODID:-//Pixl8//Eventfolio//EN
VERSION:2.0
X-WR-TIMEZONE:Africa/Nairobi
CALSCALE:GREGORIAN
METHOD:PUBLISH
CLASS:PUBLIC
BEGIN:VTIMEZONE
TZID:Africa/Nairobi
LAST-MODIFIED:20260306T231828Z
TZURL:https://www.tzurl.org/zoneinfo-outlook/Africa/Nairobi
X-LIC-LOCATION:Africa/Nairobi
BEGIN:STANDARD
TZNAME:EAT
TZOFFSETFROM:+0300
TZOFFSETTO:+0300
DTSTART:19700101T000000
END:STANDARD
END:VTIMEZONE
BEGIN:VEVENT
DTSTART;TZID=Africa/Nairobi:20250607T180000
DTEND;TZID=Africa/Nairobi:20250607T220000
DTSTAMP:20260423T201839Z
UID:{E798705A-841E-4691-985E07EEFEB7DFCE}
LOCATION:Arusha Coffee Lodge by Elewana\, Old Dodoma Road\, Burka Coffee Estate\, Arusha
SUMMARY:Kilifair Networking 2025
DESCRIPTION:Join us for an unforgettable evening of connection, conversation, and celebration at the annual ATTA® Networking Reception, held during Kilifair in the beautiful gardens of Arusha Coffee Lodge.\n
 \n
 Event details: https://atta.travel/events/ems-events-calendar/kilifair-networking-2025.html
PRIORITY:1
END:VEVENT
END:VCALENDAR