BEGIN:VCALENDAR
PRODID:-//Pixl8//Eventfolio//EN
VERSION:2.0
X-WR-TIMEZONE:Africa/Maputo
CALSCALE:GREGORIAN
METHOD:PUBLISH
CLASS:PUBLIC
BEGIN:VTIMEZONE
TZID:Africa/Maputo
LAST-MODIFIED:20260306T231828Z
TZURL:https://www.tzurl.org/zoneinfo-outlook/Africa/Maputo
X-LIC-LOCATION:Africa/Maputo
BEGIN:STANDARD
TZNAME:CAT
TZOFFSETFROM:+0200
TZOFFSETTO:+0200
DTSTART:19700101T000000
END:STANDARD
END:VTIMEZONE
BEGIN:VEVENT
DTSTART;TZID=Africa/Maputo:20231031T180000
DTEND;TZID=Africa/Maputo:20231031T200000
DTSTAMP:20260423T184704Z
UID:{EFD53C3D-9C37-47E5-9C64ECA8A9EB57B7}
LOCATION:The Retreat\, No 5\, KN 29 Street\, Kigali
SUMMARY:Kigali Networking
DESCRIPTION:On the eve of the WTTC Conference join us for an informal networking event at The Retreat\n
 \n
 Event details: https://atta.travel/events/ems-events-calendar/kigali-networking.html
PRIORITY:1
END:VEVENT
END:VCALENDAR