BEGIN:VCALENDAR
PRODID:-//Pixl8//Eventfolio//EN
VERSION:2.0
X-WR-TIMEZONE:Europe/London
CALSCALE:GREGORIAN
METHOD:PUBLISH
CLASS:PUBLIC
BEGIN:VTIMEZONE
TZID:Europe/London
LAST-MODIFIED:20260306T231828Z
TZURL:https://www.tzurl.org/zoneinfo-outlook/Europe/London
X-LIC-LOCATION:Europe/London
BEGIN:DAYLIGHT
TZNAME:BST
TZOFFSETFROM:+0000
TZOFFSETTO:+0100
DTSTART:19700329T010000
RRULE:FREQ=YEARLY;BYMONTH=3;BYDAY=-1SU
END:DAYLIGHT
BEGIN:STANDARD
TZNAME:GMT
TZOFFSETFROM:+0100
TZOFFSETTO:+0000
DTSTART:19701025T020000
RRULE:FREQ=YEARLY;BYMONTH=10;BYDAY=-1SU
END:STANDARD
END:VTIMEZONE
BEGIN:VEVENT
DTSTART;TZID=Europe/London:20240620T140000
DTEND;TZID=Europe/London:20240620T144500
DTSTAMP:20260425T183805Z
UID:{43CED15C-9773-427A-BC0E5835675D92F7}
LOCATION:
SUMMARY:Kenya: So Much More
DESCRIPTION:Step into the world of Magical Kenya, where diversity, innovation, and authenticity meet to offer visitors an unforgettable experience. In this webinar, we will take you on a designed journey through the highlights of Magical Kenya.\n
 \n
 Event details: https://atta.travel/events/ems-events-calendar/kenya-so-much-more.html
PRIORITY:1
END:VEVENT
END:VCALENDAR