BEGIN:VCALENDAR
PRODID:-//Pixl8//Eventfolio//EN
VERSION:2.0
X-WR-TIMEZONE:Europe/London
CALSCALE:GREGORIAN
METHOD:PUBLISH
CLASS:PUBLIC
BEGIN:VTIMEZONE
TZID:Europe/London
LAST-MODIFIED:20260306T231828Z
TZURL:https://www.tzurl.org/zoneinfo-outlook/Europe/London
X-LIC-LOCATION:Europe/London
BEGIN:DAYLIGHT
TZNAME:BST
TZOFFSETFROM:+0000
TZOFFSETTO:+0100
DTSTART:19700329T010000
RRULE:FREQ=YEARLY;BYMONTH=3;BYDAY=-1SU
END:DAYLIGHT
BEGIN:STANDARD
TZNAME:GMT
TZOFFSETFROM:+0100
TZOFFSETTO:+0000
DTSTART:19701025T020000
RRULE:FREQ=YEARLY;BYMONTH=10;BYDAY=-1SU
END:STANDARD
END:VTIMEZONE
BEGIN:VEVENT
DTSTART;TZID=Europe/London:20250408T140000
DTEND;TZID=Europe/London:20250408T144500
DTSTAMP:20260423T221816Z
UID:{BAA63985-8D5B-42B7-8A6CB2D56FEF3E3E}
LOCATION:
SUMMARY:Introducing Queen Nandi Place: Elevating MICE Experiences in Victoria Falls
DESCRIPTION:Join us for an exclusive webinar showcasing Queen Nandi Place, the brand-new MICE (Meetings, Incentives, Conferences, Events) facility located on the Victoria Falls Safari Lodge estate.\n
 \n
 Event details: https://atta.travel/events/ems-events-calendar/introducing-queen-nandi-place-elevating-mice-experiences-in-victoria-falls.html
PRIORITY:1
END:VEVENT
END:VCALENDAR