BEGIN:VCALENDAR
PRODID:-//Pixl8//Eventfolio//EN
VERSION:2.0
X-WR-TIMEZONE:Africa/Johannesburg
CALSCALE:GREGORIAN
METHOD:PUBLISH
CLASS:PUBLIC
BEGIN:VTIMEZONE
TZID:Africa/Johannesburg
LAST-MODIFIED:20260306T231828Z
TZURL:https://www.tzurl.org/zoneinfo-outlook/Africa/Johannesburg
X-LIC-LOCATION:Africa/Johannesburg
BEGIN:STANDARD
TZNAME:SAST
TZOFFSETFROM:+0200
TZOFFSETTO:+0200
DTSTART:19700101T000000
END:STANDARD
END:VTIMEZONE
BEGIN:VEVENT
DTSTART;TZID=Africa/Johannesburg:20230509T183000
DTEND;TZID=Africa/Johannesburg:20230509T000000
DTSTAMP:20260423T230321Z
UID:{72DEF131-8081-4E2A-955B24972EF3C6B3}
LOCATION:Robsons On Point\, 72 Mahatma Gandhi Road\, Durban
SUMMARY:Indaba Networking
DESCRIPTION:Join us for an evening of networking on day 1 of Indaba in partnership with ResRequest\n
 \n
 Event details: https://atta.travel/events/ems-events-calendar/indaba-networking-23.html
PRIORITY:1
END:VEVENT
END:VCALENDAR