BEGIN:VCALENDAR
PRODID:-//Pixl8//Eventfolio//EN
VERSION:2.0
X-WR-TIMEZONE:Africa/Johannesburg
CALSCALE:GREGORIAN
METHOD:PUBLISH
CLASS:PUBLIC
BEGIN:VTIMEZONE
TZID:Africa/Johannesburg
LAST-MODIFIED:20260306T231828Z
TZURL:https://www.tzurl.org/zoneinfo-outlook/Africa/Johannesburg
X-LIC-LOCATION:Africa/Johannesburg
BEGIN:STANDARD
TZNAME:SAST
TZOFFSETFROM:+0200
TZOFFSETTO:+0200
DTSTART:19700101T000000
END:STANDARD
END:VTIMEZONE
BEGIN:VEVENT
DTSTART;TZID=Africa/Johannesburg;VALUE=DATE:20230508
DTEND;TZID=Africa/Johannesburg;VALUE=DATE:20230512
DTSTAMP:20260423T142155Z
UID:{BC1DFBB1-0576-4385-9953A78AAA4A2349}
LOCATION:ICC Durban\, 45 Bram Fischer Road\, Durban\, 4001
SUMMARY:Indaba
DESCRIPTION:INDABA is the largest pan-African inbound show and brings together a showcase of African and Indian Ocean tourism products and services for global buyers who purchase across the market from low to high-end. \n
 \n
 Event details: https://atta.travel/events/ems-events-calendar/indaba-23.html
PRIORITY:1
END:VEVENT
END:VCALENDAR