BEGIN:VCALENDAR
PRODID:-//Pixl8//Eventfolio//EN
VERSION:2.0
X-WR-TIMEZONE:Africa/Johannesburg
CALSCALE:GREGORIAN
METHOD:PUBLISH
CLASS:PUBLIC
BEGIN:VTIMEZONE
TZID:Africa/Johannesburg
LAST-MODIFIED:20260306T231828Z
TZURL:https://www.tzurl.org/zoneinfo-outlook/Africa/Johannesburg
X-LIC-LOCATION:Africa/Johannesburg
BEGIN:STANDARD
TZNAME:SAST
TZOFFSETFROM:+0200
TZOFFSETTO:+0200
DTSTART:19700101T000000
END:STANDARD
END:VTIMEZONE
BEGIN:VEVENT
DTSTART;TZID=Africa/Johannesburg:20250513T183000
DTEND;TZID=Africa/Johannesburg:20250513T233000
DTSTAMP:20260419T155552Z
UID:{94F9E10C-81C2-4FDF-8CE1A047AEC2727F}
LOCATION:Durban Brewing Company\, 1 Mahatma Gandhi Road\, Point\, Durban 4001
SUMMARY:Indaba 2025 Networking
DESCRIPTION:Join us for our annual Indaba networking event!\n
 \n
 Event details: https://atta.travel/events/ems-events-calendar/indaba-2025-networking.html
PRIORITY:1
END:VEVENT
END:VCALENDAR