BEGIN:VCALENDAR
PRODID:-//Pixl8//Eventfolio//EN
VERSION:2.0
X-WR-TIMEZONE:Europe/London
CALSCALE:GREGORIAN
METHOD:PUBLISH
CLASS:PUBLIC
BEGIN:VTIMEZONE
TZID:Europe/London
LAST-MODIFIED:20260306T231828Z
TZURL:https://www.tzurl.org/zoneinfo-outlook/Europe/London
X-LIC-LOCATION:Europe/London
BEGIN:DAYLIGHT
TZNAME:BST
TZOFFSETFROM:+0000
TZOFFSETTO:+0100
DTSTART:19700329T010000
RRULE:FREQ=YEARLY;BYMONTH=3;BYDAY=-1SU
END:DAYLIGHT
BEGIN:STANDARD
TZNAME:GMT
TZOFFSETFROM:+0100
TZOFFSETTO:+0000
DTSTART:19701025T020000
RRULE:FREQ=YEARLY;BYMONTH=10;BYDAY=-1SU
END:STANDARD
END:VTIMEZONE
BEGIN:VEVENT
DTSTART;TZID=Europe/London:20250618T100000
DTEND;TZID=Europe/London:20250618T104500
DTSTAMP:20260424T034148Z
UID:{FC6F3B29-4C0F-4D32-8CA783A6C4ACE553}
LOCATION:
SUMMARY:Grounded in Damaraland: Exploring Mowani Mountain Camp & Camp Kipwe
DESCRIPTION:Join us for an inspiring journey into the heart of Namibia’s Damaraland as we explore the unforgettable landscapes where Chiwani Safari Camps – Mowani Mountain Camp and Camp Kipwe – offer a sense of place that is both timeless and deeply grounding.\n
 \n
 Event details: https://atta.travel/events/ems-events-calendar/grounded-in-damaraland-exploring-mowani-mountain-camp-camp-kipwe.html
PRIORITY:1
END:VEVENT
END:VCALENDAR