BEGIN:VCALENDAR
PRODID:-//Pixl8//Eventfolio//EN
VERSION:2.0
X-WR-TIMEZONE:Europe/London
CALSCALE:GREGORIAN
METHOD:PUBLISH
CLASS:PUBLIC
BEGIN:VTIMEZONE
TZID:Europe/London
LAST-MODIFIED:20260306T231828Z
TZURL:https://www.tzurl.org/zoneinfo-outlook/Europe/London
X-LIC-LOCATION:Europe/London
BEGIN:DAYLIGHT
TZNAME:BST
TZOFFSETFROM:+0000
TZOFFSETTO:+0100
DTSTART:19700329T010000
RRULE:FREQ=YEARLY;BYMONTH=3;BYDAY=-1SU
END:DAYLIGHT
BEGIN:STANDARD
TZNAME:GMT
TZOFFSETFROM:+0100
TZOFFSETTO:+0000
DTSTART:19701025T020000
RRULE:FREQ=YEARLY;BYMONTH=10;BYDAY=-1SU
END:STANDARD
END:VTIMEZONE
BEGIN:VEVENT
DTSTART;TZID=Europe/London:20250723T100000
DTEND;TZID=Europe/London:20250723T104500
DTSTAMP:20260423T202025Z
UID:{BB14F92A-B852-4EFB-AF0023C89ACC9BA9}
LOCATION:
SUMMARY:Green Safaris - The “Dream Circuit” 
DESCRIPTION:Tune in to hear from Rosalind Hine, Business Development Manager for Green Safaris. Ros will take you on a journey through the Green Safaris Dream Circuit which will showcase the luxury properties across this stunning portfolio, touching on the green initiatives which are at the heart of this group's operations.\n
 \n
 Event details: https://atta.travel/events/ems-events-calendar/green-safaris-the-dream-circuit.html
PRIORITY:1
END:VEVENT
END:VCALENDAR