BEGIN:VCALENDAR
PRODID:-//Pixl8//Eventfolio//EN
VERSION:2.0
X-WR-TIMEZONE:Europe/London
CALSCALE:GREGORIAN
METHOD:PUBLISH
CLASS:PUBLIC
BEGIN:VTIMEZONE
TZID:Europe/London
LAST-MODIFIED:20260306T231828Z
TZURL:https://www.tzurl.org/zoneinfo-outlook/Europe/London
X-LIC-LOCATION:Europe/London
BEGIN:DAYLIGHT
TZNAME:BST
TZOFFSETFROM:+0000
TZOFFSETTO:+0100
DTSTART:19700329T010000
RRULE:FREQ=YEARLY;BYMONTH=3;BYDAY=-1SU
END:DAYLIGHT
BEGIN:STANDARD
TZNAME:GMT
TZOFFSETFROM:+0100
TZOFFSETTO:+0000
DTSTART:19701025T020000
RRULE:FREQ=YEARLY;BYMONTH=10;BYDAY=-1SU
END:STANDARD
END:VTIMEZONE
BEGIN:VEVENT
DTSTART;TZID=Europe/London:20240916T120000
DTEND;TZID=Europe/London:20240916T130000
DTSTAMP:20260421T165233Z
UID:{7046B76F-D040-4A4F-B1A219C031285859}
LOCATION:
SUMMARY:Green Claims: How to prepare for Anti Greenwashing EU legislations
DESCRIPTION:A practical introduction to the EU’s Green Claims Directive, Consumer Empowerment Directive, and Unfair Commercial Practice Directive.\n
 \n
 Event details: https://atta.travel/events/ems-events-calendar/green-claims-how-to-prepare-for-anti-greenwashing-eu-legislationss.html
PRIORITY:1
END:VEVENT
END:VCALENDAR