BEGIN:VCALENDAR
PRODID:-//Pixl8//Eventfolio//EN
VERSION:2.0
X-WR-TIMEZONE:Europe/London
CALSCALE:GREGORIAN
METHOD:PUBLISH
CLASS:PUBLIC
BEGIN:VTIMEZONE
TZID:Europe/London
LAST-MODIFIED:20260306T231828Z
TZURL:https://www.tzurl.org/zoneinfo-outlook/Europe/London
X-LIC-LOCATION:Europe/London
BEGIN:DAYLIGHT
TZNAME:BST
TZOFFSETFROM:+0000
TZOFFSETTO:+0100
DTSTART:19700329T010000
RRULE:FREQ=YEARLY;BYMONTH=3;BYDAY=-1SU
END:DAYLIGHT
BEGIN:STANDARD
TZNAME:GMT
TZOFFSETFROM:+0100
TZOFFSETTO:+0000
DTSTART:19701025T020000
RRULE:FREQ=YEARLY;BYMONTH=10;BYDAY=-1SU
END:STANDARD
END:VTIMEZONE
BEGIN:VEVENT
DTSTART;TZID=Europe/London:20240613T090000
DTEND;TZID=Europe/London:20240613T150000
DTSTAMP:20260423T155434Z
UID:{AA3F0FA0-CE3A-476E-A9E9135783DC1530}
LOCATION:Online
SUMMARY:FINN Future of Travel Report (India) x Asia/U.S
DESCRIPTION:“Impulse and affluence: Understanding spending trends among India’s young globetrotters”. This report comes as a combined effort of multiple markets servicing travel PR, marketing, and research departments.\n
 \n
 Event details: https://atta.travel/events/ems-events-calendar/finn-future-of-travel-report-india-x-asia-u-s.html
PRIORITY:1
END:VEVENT
END:VCALENDAR