BEGIN:VCALENDAR
PRODID:-//Pixl8//Eventfolio//EN
VERSION:2.0
X-WR-TIMEZONE:Europe/London
CALSCALE:GREGORIAN
METHOD:PUBLISH
CLASS:PUBLIC
BEGIN:VTIMEZONE
TZID:Europe/London
LAST-MODIFIED:20260306T231828Z
TZURL:https://www.tzurl.org/zoneinfo-outlook/Europe/London
X-LIC-LOCATION:Europe/London
BEGIN:DAYLIGHT
TZNAME:BST
TZOFFSETFROM:+0000
TZOFFSETTO:+0100
DTSTART:19700329T010000
RRULE:FREQ=YEARLY;BYMONTH=3;BYDAY=-1SU
END:DAYLIGHT
BEGIN:STANDARD
TZNAME:GMT
TZOFFSETFROM:+0100
TZOFFSETTO:+0000
DTSTART:19701025T020000
RRULE:FREQ=YEARLY;BYMONTH=10;BYDAY=-1SU
END:STANDARD
END:VTIMEZONE
BEGIN:VEVENT
DTSTART;TZID=Europe/London:20231122T100000
DTEND;TZID=Europe/London:20231122T104500
DTSTAMP:20260424T042013Z
UID:{6926EE97-E7F8-405C-A8DFB7BF16588C51}
LOCATION:
SUMMARY:Extraordinary Southern Africa
DESCRIPTION:Extraordinary presents a distinctive collection of luxury lodges and hotels in South Africa and Victoria Falls.\n
 \n
 Event details: https://atta.travel/events/ems-events-calendar/extraordinary-southern-africa.html
PRIORITY:1
END:VEVENT
END:VCALENDAR