BEGIN:VCALENDAR
PRODID:-//Pixl8//Eventfolio//EN
VERSION:2.0
X-WR-TIMEZONE:Europe/London
CALSCALE:GREGORIAN
METHOD:PUBLISH
CLASS:PUBLIC
BEGIN:VTIMEZONE
TZID:Europe/London
LAST-MODIFIED:20260306T231828Z
TZURL:https://www.tzurl.org/zoneinfo-outlook/Europe/London
X-LIC-LOCATION:Europe/London
BEGIN:DAYLIGHT
TZNAME:BST
TZOFFSETFROM:+0000
TZOFFSETTO:+0100
DTSTART:19700329T010000
RRULE:FREQ=YEARLY;BYMONTH=3;BYDAY=-1SU
END:DAYLIGHT
BEGIN:STANDARD
TZNAME:GMT
TZOFFSETFROM:+0100
TZOFFSETTO:+0000
DTSTART:19701025T020000
RRULE:FREQ=YEARLY;BYMONTH=10;BYDAY=-1SU
END:STANDARD
END:VTIMEZONE
BEGIN:VEVENT
DTSTART;TZID=Europe/London:20250507T100000
DTEND;TZID=Europe/London:20250507T104500
DTSTAMP:20260424T011210Z
UID:{AE0C0A9D-EBB6-43DD-BE856B3721F88777}
LOCATION:
SUMMARY:Explore the remote Sungani and Kulandila, South Luangwa, Zambia
DESCRIPTION:Come explore the southernmost camps in South Luangwa National Park, Zambia.\n
 \n
 Event details: https://atta.travel/events/ems-events-calendar/explore-the-remote-sungani-and-kulandila-south-luangwa-zambia.html
PRIORITY:1
END:VEVENT
END:VCALENDAR