BEGIN:VCALENDAR
PRODID:-//Pixl8//Eventfolio//EN
VERSION:2.0
X-WR-TIMEZONE:Europe/London
CALSCALE:GREGORIAN
METHOD:PUBLISH
CLASS:PUBLIC
BEGIN:VTIMEZONE
TZID:Europe/London
LAST-MODIFIED:20260306T231828Z
TZURL:https://www.tzurl.org/zoneinfo-outlook/Europe/London
X-LIC-LOCATION:Europe/London
BEGIN:DAYLIGHT
TZNAME:BST
TZOFFSETFROM:+0000
TZOFFSETTO:+0100
DTSTART:19700329T010000
RRULE:FREQ=YEARLY;BYMONTH=3;BYDAY=-1SU
END:DAYLIGHT
BEGIN:STANDARD
TZNAME:GMT
TZOFFSETFROM:+0100
TZOFFSETTO:+0000
DTSTART:19701025T020000
RRULE:FREQ=YEARLY;BYMONTH=10;BYDAY=-1SU
END:STANDARD
END:VTIMEZONE
BEGIN:VEVENT
DTSTART;TZID=Europe/London:20240905T140000
DTEND;TZID=Europe/London:20240905T150000
DTSTAMP:20260423T230347Z
UID:{D3C91EA4-7DAE-4B42-9B604AA2A4BC76A5}
LOCATION:
SUMMARY:Explore ‘off the beaten path’ experiences with NAT
DESCRIPTION:Let us take you on a magical journey through our wild array and our ‘off the beaten path’ adventures. We're wild about adventure and with over 37 years of experience operating camps, lodges and outfitting safaris in East Africa.\n
 \n
 Event details: https://atta.travel/events/ems-events-calendar/explore-off-the-beaten-path-experiences-with-nat.html
PRIORITY:1
END:VEVENT
END:VCALENDAR