BEGIN:VCALENDAR
PRODID:-//Pixl8//Eventfolio//EN
VERSION:2.0
X-WR-TIMEZONE:Europe/London
CALSCALE:GREGORIAN
METHOD:PUBLISH
CLASS:PUBLIC
BEGIN:VTIMEZONE
TZID:Europe/London
LAST-MODIFIED:20260306T231828Z
TZURL:https://www.tzurl.org/zoneinfo-outlook/Europe/London
X-LIC-LOCATION:Europe/London
BEGIN:DAYLIGHT
TZNAME:BST
TZOFFSETFROM:+0000
TZOFFSETTO:+0100
DTSTART:19700329T010000
RRULE:FREQ=YEARLY;BYMONTH=3;BYDAY=-1SU
END:DAYLIGHT
BEGIN:STANDARD
TZNAME:GMT
TZOFFSETFROM:+0100
TZOFFSETTO:+0000
DTSTART:19701025T020000
RRULE:FREQ=YEARLY;BYMONTH=10;BYDAY=-1SU
END:STANDARD
END:VTIMEZONE
BEGIN:VEVENT
DTSTART;TZID=Europe/London;VALUE=DATE:20240701
DTEND;TZID=Europe/London;VALUE=DATE:20240704
DTSTAMP:20260422T092840Z
UID:{181489D8-CF1D-4B62-96BBF241FD428780}
LOCATION:London
SUMMARY:Experience Africa
DESCRIPTION:Experience Africa is ATTA's flagship event and held annually in central London - join us and find out more!\n
 \n
 Event details: https://atta.travel/events/ems-events-calendar/experience-africa-24.html
PRIORITY:1
END:VEVENT
END:VCALENDAR