BEGIN:VCALENDAR
PRODID:-//Pixl8//Eventfolio//EN
VERSION:2.0
X-WR-TIMEZONE:Europe/London
CALSCALE:GREGORIAN
METHOD:PUBLISH
CLASS:PUBLIC
BEGIN:VTIMEZONE
TZID:Europe/London
LAST-MODIFIED:20260306T231828Z
TZURL:https://www.tzurl.org/zoneinfo-outlook/Europe/London
X-LIC-LOCATION:Europe/London
BEGIN:DAYLIGHT
TZNAME:BST
TZOFFSETFROM:+0000
TZOFFSETTO:+0100
DTSTART:19700329T010000
RRULE:FREQ=YEARLY;BYMONTH=3;BYDAY=-1SU
END:DAYLIGHT
BEGIN:STANDARD
TZNAME:GMT
TZOFFSETFROM:+0100
TZOFFSETTO:+0000
DTSTART:19701025T020000
RRULE:FREQ=YEARLY;BYMONTH=10;BYDAY=-1SU
END:STANDARD
END:VTIMEZONE
BEGIN:VEVENT
DTSTART;TZID=Europe/London:20220824T080000
DTEND;TZID=Europe/London:20220824T230000
DTSTAMP:20260423T184706Z
UID:{9059F6D3-DB9F-4184-8A359F6F1F4D8315.44797}
LOCATION:The Kia Oval
SUMMARY:EA32Test
DESCRIPTION:Experience Africa by ATTA is the premiere platform for uniting Africa suppliers with the most relevant, active buyers from the UK & Europe, all connecting in one place. Experience Africa showcases a refreshingly wide range of inspiring travel products and enticingly curated experiences, all being sold right now across the incredible continent.\n
 \n
 Event details: https://atta.travel/events/ems-events-calendar/ea32test.html
PRIORITY:1
END:VEVENT
END:VCALENDAR