BEGIN:VCALENDAR
PRODID:-//Pixl8//Eventfolio//EN
VERSION:2.0
X-WR-TIMEZONE:Europe/London
CALSCALE:GREGORIAN
METHOD:PUBLISH
CLASS:PUBLIC
BEGIN:VTIMEZONE
TZID:Europe/London
LAST-MODIFIED:20260306T231828Z
TZURL:https://www.tzurl.org/zoneinfo-outlook/Europe/London
X-LIC-LOCATION:Europe/London
BEGIN:DAYLIGHT
TZNAME:BST
TZOFFSETFROM:+0000
TZOFFSETTO:+0100
DTSTART:19700329T010000
RRULE:FREQ=YEARLY;BYMONTH=3;BYDAY=-1SU
END:DAYLIGHT
BEGIN:STANDARD
TZNAME:GMT
TZOFFSETFROM:+0100
TZOFFSETTO:+0000
DTSTART:19701025T020000
RRULE:FREQ=YEARLY;BYMONTH=10;BYDAY=-1SU
END:STANDARD
END:VTIMEZONE
BEGIN:VEVENT
DTSTART;TZID=Europe/London:20250904T140000
DTEND;TZID=Europe/London:20250904T141500
DTSTAMP:20260423T142436Z
UID:{31CFF332-C33E-43E7-AF6F7F9BC7217AF3}
LOCATION:
SUMMARY:Drostdy Hotel, Luxury in the Karoo, South African
DESCRIPTION:The Drostdy Hotel, established in 1807 and beautifully renovated into a 5-star property, is one of South Africa’s oldest and most charming hotels.\n
 \n
 Event details: https://atta.travel/events/ems-events-calendar/drostdy-hotel-luxury-in-the-karoo-south-african.html
PRIORITY:1
END:VEVENT
END:VCALENDAR