BEGIN:VCALENDAR
PRODID:-//Pixl8//Eventfolio//EN
VERSION:2.0
X-WR-TIMEZONE:Europe/London
CALSCALE:GREGORIAN
METHOD:PUBLISH
CLASS:PUBLIC
BEGIN:VTIMEZONE
TZID:Europe/London
LAST-MODIFIED:20260306T231828Z
TZURL:https://www.tzurl.org/zoneinfo-outlook/Europe/London
X-LIC-LOCATION:Europe/London
BEGIN:DAYLIGHT
TZNAME:BST
TZOFFSETFROM:+0000
TZOFFSETTO:+0100
DTSTART:19700329T010000
RRULE:FREQ=YEARLY;BYMONTH=3;BYDAY=-1SU
END:DAYLIGHT
BEGIN:STANDARD
TZNAME:GMT
TZOFFSETFROM:+0100
TZOFFSETTO:+0000
DTSTART:19701025T020000
RRULE:FREQ=YEARLY;BYMONTH=10;BYDAY=-1SU
END:STANDARD
END:VTIMEZONE
BEGIN:VEVENT
DTSTART;TZID=Europe/London:20250910T100000
DTEND;TZID=Europe/London:20250910T104500
DTSTAMP:20260423T221958Z
UID:{F80ABDCD-C987-47EA-BAFC14C20B7CB47D}
LOCATION:
SUMMARY:Discover What’s New: A&K Sanctuary Lodge & Portfolio Updates
DESCRIPTION:Join us for an inspiring session as we share the latest updates from A&K Sanctuary.\n
 \n
 Event details: https://atta.travel/events/ems-events-calendar/discover-what-s-new-a-k-sanctuary-lodge-portfolio-updates.html
PRIORITY:1
END:VEVENT
END:VCALENDAR