BEGIN:VCALENDAR
PRODID:-//Pixl8//Eventfolio//EN
VERSION:2.0
X-WR-TIMEZONE:Europe/London
CALSCALE:GREGORIAN
METHOD:PUBLISH
CLASS:PUBLIC
BEGIN:VTIMEZONE
TZID:Europe/London
LAST-MODIFIED:20260306T231828Z
TZURL:https://www.tzurl.org/zoneinfo-outlook/Europe/London
X-LIC-LOCATION:Europe/London
BEGIN:DAYLIGHT
TZNAME:BST
TZOFFSETFROM:+0000
TZOFFSETTO:+0100
DTSTART:19700329T010000
RRULE:FREQ=YEARLY;BYMONTH=3;BYDAY=-1SU
END:DAYLIGHT
BEGIN:STANDARD
TZNAME:GMT
TZOFFSETFROM:+0100
TZOFFSETTO:+0000
DTSTART:19701025T020000
RRULE:FREQ=YEARLY;BYMONTH=10;BYDAY=-1SU
END:STANDARD
END:VTIMEZONE
BEGIN:VEVENT
DTSTART;TZID=Europe/London:20250206T140000
DTEND;TZID=Europe/London:20250206T144500
DTSTAMP:20260424T032548Z
UID:{2922B0E1-BF54-4772-9F0D3F645D931AE2}
LOCATION:
SUMMARY:Discover the Elegance of the Liz McGrath Collection
DESCRIPTION:An exclusive virtual tour of The Liz McGrath Collection, where luxury meets unparalleled hospitality.\n
 \n
 Event details: https://atta.travel/events/ems-events-calendar/discover-the-elegance-of-the-liz-mcgrath-collection.html
PRIORITY:1
END:VEVENT
END:VCALENDAR