BEGIN:VCALENDAR
PRODID:-//Pixl8//Eventfolio//EN
VERSION:2.0
X-WR-TIMEZONE:Europe/London
CALSCALE:GREGORIAN
METHOD:PUBLISH
CLASS:PUBLIC
BEGIN:VTIMEZONE
TZID:Europe/London
LAST-MODIFIED:20260306T231828Z
TZURL:https://www.tzurl.org/zoneinfo-outlook/Europe/London
X-LIC-LOCATION:Europe/London
BEGIN:DAYLIGHT
TZNAME:BST
TZOFFSETFROM:+0000
TZOFFSETTO:+0100
DTSTART:19700329T010000
RRULE:FREQ=YEARLY;BYMONTH=3;BYDAY=-1SU
END:DAYLIGHT
BEGIN:STANDARD
TZNAME:GMT
TZOFFSETFROM:+0100
TZOFFSETTO:+0000
DTSTART:19701025T020000
RRULE:FREQ=YEARLY;BYMONTH=10;BYDAY=-1SU
END:STANDARD
END:VTIMEZONE
BEGIN:VEVENT
DTSTART;TZID=Europe/London:20231116T140000
DTEND;TZID=Europe/London:20231116T144500
DTSTAMP:20260424T073922Z
UID:{C2FB1667-F875-4CAF-B7C8F0AFCA1C1495}
LOCATION:
SUMMARY:Discover the best kept secrets of Rare Earth Retreats
DESCRIPTION:The Rare Earth Retreats portfolio is a breath of fresh air in the luxury market providing accessible luxury to all travelers.\n
 \n
 Event details: https://atta.travel/events/ems-events-calendar/discover-the-best-kept-secrets-of-rare-earth-retreats.html
PRIORITY:1
END:VEVENT
END:VCALENDAR